BEGIN:VCALENDAR
VERSION:2.0
PRODID:-//wp-events-plugin.com//7.2.3//EN
TZID:Europe/Madrid
X-WR-TIMEZONE:Europe/Madrid
BEGIN:VEVENT
UID:2472@elshostaletsdepierola.cat
DTSTART;TZID=Europe/Madrid:20240524T173000
DTEND;TZID=Europe/Madrid:20240524T173000
DTSTAMP:20240522T070103Z
URL:https://elshostaletsdepierola.cat/events/taller-dexpressio-artistica/
SUMMARY:Taller d'expressió artística
DESCRIPTION:Parc de Cal Ponsa i la Placeta | Divendres 24 de maig 17:30h\n\
 nTallers dinamitzats pels joves del Punt Jove. Obert a totes les edats.
ATTACH;FMTTYPE=image/jpeg:https://elshostaletsdepierola.cat/wp-content/upl
 oads/2024/04/taller2.png
CATEGORIES:Esdeveniments,Joventut
END:VEVENT
BEGIN:VTIMEZONE
TZID:Europe/Madrid
X-LIC-LOCATION:Europe/Madrid
BEGIN:DAYLIGHT
DTSTART:20240331T030000
TZOFFSETFROM:+0100
TZOFFSETTO:+0200
TZNAME:CEST
END:DAYLIGHT
END:VTIMEZONE
END:VCALENDAR