BEGIN:VCALENDAR
VERSION:2.0
PRODID:-//wp-events-plugin.com//7.2.3//EN
TZID:Europe/Madrid
X-WR-TIMEZONE:Europe/Madrid
BEGIN:VEVENT
UID:1517@elshostaletsdepierola.cat
DTSTART:20220218T183000Z
DTEND:20220218T200000Z
DTSTAMP:20220314T105758Z
URL:https://elshostaletsdepierola.cat/events/tast-de-literatura-7/
SUMMARY:Tast de literatura
DESCRIPTION:
ATTACH;FMTTYPE=image/jpeg:https://elshostaletsdepierola.cat/wp-content/upl
 oads/2022/02/img_5066.jpg
CATEGORIES:Cultura,Esdeveniments
LOCATION:Torre Sr Enric\, Plaça Cal Figueres 1\, Els Hostalets de Pierola\
 , Espanya
GEO:41.5340289;1.770080499999949
X-APPLE-STRUCTURED-LOCATION;VALUE=URI;X-ADDRESS=Plaça Cal Figueres 1\, Els
  Hostalets de Pierola\, Espanya;X-APPLE-RADIUS=100;X-TITLE=Torre Sr Enric:
 geo:41.5340289,1.770080499999949
END:VEVENT
END:VCALENDAR