BEGIN:VCALENDAR
VERSION:2.0
PRODID:-//wp-events-plugin.com//7.2.3//EN
TZID:Europe/Madrid
X-WR-TIMEZONE:Europe/Madrid
BEGIN:VEVENT
UID:2625@elshostaletsdepierola.cat
DTSTART;TZID=Europe/Madrid:20241221T100000
DTEND;TZID=Europe/Madrid:20241221T100000
DTSTAMP:20241209T210239Z
URL:https://elshostaletsdepierola.cat/events/taules-obertes-jocs-de-rol/
SUMMARY:Taules obertes jocs de rol
DESCRIPTION:Proposta de la Comunitat del Taulell per aquests dies de Nadal 
 amb dues sessions a les 10.00 i a les 16.00 hores.
ATTACH;FMTTYPE=image/jpeg:https://elshostaletsdepierola.cat/wp-content/upl
 oads/2024/12/nadal24img-1.png
CATEGORIES:Esdeveniments,Festes
LOCATION:Torre del Sr. Enric\, Isidre Vallès s/n\, Els Hostalets de Pierol
 a\, Catalunya\, 808781\, Espanya
GEO:41.5339344;1.769799599999942
X-APPLE-STRUCTURED-LOCATION;VALUE=URI;X-ADDRESS=Isidre Vallès s/n\, Els Ho
 stalets de Pierola\, Catalunya\, 808781\, Espanya;X-APPLE-RADIUS=100;X-TIT
 LE=Torre del Sr. Enric:geo:41.5339344,1.769799599999942
END:VEVENT
BEGIN:VTIMEZONE
TZID:Europe/Madrid
X-LIC-LOCATION:Europe/Madrid
BEGIN:STANDARD
DTSTART:20241027T020000
TZOFFSETFROM:+0200
TZOFFSETTO:+0100
TZNAME:CET
END:STANDARD
END:VTIMEZONE
END:VCALENDAR