BEGIN:VCALENDAR
VERSION:2.0
PRODID:-//wp-events-plugin.com//7.2.3//EN
TZID:Europe/Madrid
X-WR-TIMEZONE:Europe/Madrid
BEGIN:VEVENT
UID:1499@elshostaletsdepierola.cat
DTSTART:20220205T190000Z
DTEND:20220205T210000Z
DTSTAMP:20220203T145507Z
URL:https://elshostaletsdepierola.cat/events/teatre-la-volta-al-mon-en-80-
 ties/
SUMMARY:Teatre: La volta al món en 80 ties
DESCRIPTION:Compra la teva entrada aquí.
ATTACH;FMTTYPE=image/jpeg:https://elshostaletsdepierola.cat/wp-content/upl
 oads/2022/01/img_4760.jpg
CATEGORIES:Cultura,Esdeveniments,newsletter
LOCATION:Sala Teatre Casal Català\, Isidre Vallès \, 30\, Els Hostalets d
 e Pierola\, Espanya
GEO:41.5334999;1.7705200000000332
X-APPLE-STRUCTURED-LOCATION;VALUE=URI;X-ADDRESS=Isidre Vallès \, 30\, Els 
 Hostalets de Pierola\, Espanya;X-APPLE-RADIUS=100;X-TITLE=Sala Teatre Casa
 l Català:geo:41.5334999,1.7705200000000332
END:VEVENT
END:VCALENDAR