BEGIN:VCALENDAR
VERSION:2.0
PRODID:-//wp-events-plugin.com//7.2.3//EN
TZID:Europe/Madrid
X-WR-TIMEZONE:Europe/Madrid
BEGIN:VEVENT
UID:2469@elshostaletsdepierola.cat
DTSTART;TZID=Europe/Madrid:20240504T220000
DTEND;TZID=Europe/Madrid:20240504T233000
DTSTAMP:20240509T211457Z
URL:https://elshostaletsdepierola.cat/events/teatre-plena-de-culpa/
SUMMARY:Teatre: Plena de culpa
DESCRIPTION:Dissabte 4 de maig | Teatre Casal Català\nPreu: Socis 4 € No
  Socis 6 €
ATTACH;FMTTYPE=image/jpeg:https://elshostaletsdepierola.cat/wp-content/upl
 oads/2024/04/plena-de-culpa.png
CATEGORIES:Cultura,Esdeveniments
LOCATION:Teatre del Casal Català\, Av. Catalunya\, Els Hostalets de Pierol
 a\, Espanya
X-APPLE-STRUCTURED-LOCATION;VALUE=URI;X-ADDRESS=Av. Catalunya\, Els Hostale
 ts de Pierola\, Espanya;X-APPLE-RADIUS=100;X-TITLE=Teatre del Casal Catal
 à:geo:0,0
END:VEVENT
BEGIN:VTIMEZONE
TZID:Europe/Madrid
X-LIC-LOCATION:Europe/Madrid
BEGIN:DAYLIGHT
DTSTART:20240331T030000
TZOFFSETFROM:+0100
TZOFFSETTO:+0200
TZNAME:CEST
END:DAYLIGHT
END:VTIMEZONE
END:VCALENDAR