BEGIN:VCALENDAR
VERSION:2.0
PRODID:-//wp-events-plugin.com//7.2.3//EN
TZID:Europe/Madrid
X-WR-TIMEZONE:Europe/Madrid
BEGIN:VEVENT
UID:2285@elshostaletsdepierola.cat
DTSTART;TZID=Europe/Madrid:20231125T123000
DTEND;TZID=Europe/Madrid:20231125T123000
DTSTAMP:20231123T140123Z
URL:https://elshostaletsdepierola.cat/events/titelles-al-casal-montserrat/
SUMMARY:Titelles al Casal Montserrat
DESCRIPTION:El dissabte 25 de novembre\, a les 12.30h\, espectacle de titel
 les al Casal Montserrat amb "La veritable història del rei que tenia el n
 as vermell".\n\nHi haurà obsequis per a tots els nens i nenes.\n\nOrganit
 za: Ajuntaments dels Hostalets de Pierola i l'Associació de Veïns de Can
  Fosalba\, amb la col·laboració del Casal Montserrat
ATTACH;FMTTYPE=image/jpeg:https://elshostaletsdepierola.cat/wp-content/upl
 oads/2023/11/titelles.jpg
CATEGORIES:Cultura,Esdeveniments,newsletter
LOCATION:Casal Montserrat Can Fosalba\, Can Fosalba\, Els Hostalets de Pier
 ola\, Espanya
GEO:41.5444542;1.8107836000000361
X-APPLE-STRUCTURED-LOCATION;VALUE=URI;X-ADDRESS=Can Fosalba\, Els Hostalets
  de Pierola\, Espanya;X-APPLE-RADIUS=100;X-TITLE=Casal Montserrat Can Fosa
 lba:geo:41.5444542,1.8107836000000361
END:VEVENT
BEGIN:VTIMEZONE
TZID:Europe/Madrid
X-LIC-LOCATION:Europe/Madrid
BEGIN:STANDARD
DTSTART:20231029T020000
TZOFFSETFROM:+0200
TZOFFSETTO:+0100
TZNAME:CET
END:STANDARD
END:VTIMEZONE
END:VCALENDAR