BEGIN:VCALENDAR
VERSION:2.0
PRODID:-//wp-events-plugin.com//7.2.3//EN
TZID:Europe/Madrid
X-WR-TIMEZONE:Europe/Madrid
BEGIN:VEVENT
UID:29@elshostaletsdepierola.cat
DTSTART:20151219T110000Z
DTEND:20151219T130000Z
DTSTAMP:20151228T111901Z
URL:https://elshostaletsdepierola.cat/events/trobada-joves-hostaletencs/
SUMMARY:Trobada de Joves hostaletencs
DESCRIPTION:
ATTACH;FMTTYPE=image/jpeg:https://elshostaletsdepierola.cat/wp-content/upl
 oads/2015/12/Trobada_espai_jove_des_15.jpg
CATEGORIES:Esdeveniments
LOCATION:Torre Sr Enric\, Plaça Cal Figueres 1\, Els Hostalets de Pierola\
 , Espanya
GEO:41.5340289;1.770080499999949
X-APPLE-STRUCTURED-LOCATION;VALUE=URI;X-ADDRESS=Plaça Cal Figueres 1\, Els
  Hostalets de Pierola\, Espanya;X-APPLE-RADIUS=100;X-TITLE=Torre Sr Enric:
 geo:41.5340289,1.770080499999949
END:VEVENT
END:VCALENDAR