BEGIN:VCALENDAR
VERSION:2.0
PRODID:-//wp-events-plugin.com//7.2.3//EN
TZID:Europe/Madrid
X-WR-TIMEZONE:Europe/Madrid
BEGIN:VEVENT
UID:2579@elshostaletsdepierola.cat
DTSTART;TZID=Europe/Madrid:20241101T210000
DTEND;TZID=Europe/Madrid:20241101T210000
DTSTAMP:20241030T193346Z
URL:https://elshostaletsdepierola.cat/events/tunel-del-terror-al-casal-mon
 tserrat-2/
SUMMARY:Túnel del terror al Casal Montserrat AJORNAT
DESCRIPTION:***Activitat suspesa a causa de la situació meteorològica\n\n
 Divendres 1 de novembre 21.00h \n\nTúnel del terror al Casal Montserrat 
 de Can Fosalba
ATTACH;FMTTYPE=image/jpeg:https://elshostaletsdepierola.cat/wp-content/upl
 oads/2024/10/1novembre.jpeg
CATEGORIES:Esdeveniments,Festes
END:VEVENT
BEGIN:VTIMEZONE
TZID:Europe/Madrid
X-LIC-LOCATION:Europe/Madrid
BEGIN:STANDARD
DTSTART:20241027T020000
TZOFFSETFROM:+0200
TZOFFSETTO:+0100
TZNAME:CET
END:STANDARD
END:VTIMEZONE
END:VCALENDAR