BEGIN:VCALENDAR
VERSION:2.0
PRODID:-//wp-events-plugin.com//7.2.3//EN
TZID:Europe/Madrid
X-WR-TIMEZONE:Europe/Madrid
BEGIN:VEVENT
UID:1471@elshostaletsdepierola.cat
DTSTART:20211218T170000Z
DTEND:20211218T190000Z
DTSTAMP:20211216T120450Z
URL:https://elshostaletsdepierola.cat/events/valsos-i-polques/
SUMMARY:Valsos i polques
DESCRIPTION:
ATTACH;FMTTYPE=image/jpeg:https://elshostaletsdepierola.cat/wp-content/upl
 oads/2021/12/img_3943.jpg
CATEGORIES:Cultura,Esdeveniments,Festes,newsletter
LOCATION:Sala Teatre Casal Català\, Isidre Vallès \, 30\, Els Hostalets d
 e Pierola\, Espanya
GEO:41.5334999;1.7705200000000332
X-APPLE-STRUCTURED-LOCATION;VALUE=URI;X-ADDRESS=Isidre Vallès \, 30\, Els 
 Hostalets de Pierola\, Espanya;X-APPLE-RADIUS=100;X-TITLE=Sala Teatre Casa
 l Català:geo:41.5334999,1.7705200000000332
END:VEVENT
END:VCALENDAR