BEGIN:VCALENDAR
VERSION:2.0
PRODID:-//wp-events-plugin.com//7.2.3//EN
TZID:Europe/Madrid
X-WR-TIMEZONE:Europe/Madrid
BEGIN:VEVENT
UID:2557@elshostaletsdepierola.cat
DTSTART;TZID=Europe/Madrid:20241020T190000
DTEND;TZID=Europe/Madrid:20241020T190000
DTSTAMP:20241001T171543Z
URL:https://elshostaletsdepierola.cat/events/vii-festival-internacional-de
 -musica-3/
SUMMARY:VII Festival Internacional de Música
DESCRIPTION:Diumenge 20 d'octubre | 19:00h Auditori Cal Figueres\n\nRecital
  de piano amb Sveta Trushka / Antoni Besses l Preu: 10 €
ATTACH;FMTTYPE=image/jpeg:https://elshostaletsdepierola.cat/wp-content/upl
 oads/2024/09/piano3.jpeg
CATEGORIES:Cultura,Esdeveniments
END:VEVENT
BEGIN:VTIMEZONE
TZID:Europe/Madrid
X-LIC-LOCATION:Europe/Madrid
BEGIN:DAYLIGHT
DTSTART:20240331T030000
TZOFFSETFROM:+0100
TZOFFSETTO:+0200
TZNAME:CEST
END:DAYLIGHT
END:VTIMEZONE
END:VCALENDAR