BEGIN:VCALENDAR
VERSION:2.0
PRODID:-//wp-events-plugin.com//7.2.3//EN
TZID:Europe/Madrid
X-WR-TIMEZONE:Europe/Madrid
BEGIN:VEVENT
UID:2558@elshostaletsdepierola.cat
DTSTART;TZID=Europe/Madrid:20241027T193000
DTEND;TZID=Europe/Madrid:20241027T193000
DTSTAMP:20241001T171455Z
URL:https://elshostaletsdepierola.cat/events/vii-festival-internacional-de
 -musica-4/
SUMMARY:VII Festival Internacional de Música
DESCRIPTION:Diumenge 27 d'octubre | 19:30h Santuari del Sant Crist de Piera
 \n\ntrio d'orgue\, trompeta i soprano\, amb Jonatan Carbó\, Gonzalo Álva
 rez i Anna Arias\n\nPreu: 15 € (10 € jubilats i estudiants). Venda d'e
 ntrades Papereries Fanny i Dalmau\, Llar de la Imatge
ATTACH;FMTTYPE=image/jpeg:https://elshostaletsdepierola.cat/wp-content/upl
 oads/2024/09/festivalpiano.png
CATEGORIES:Cultura,Esdeveniments
END:VEVENT
BEGIN:VTIMEZONE
TZID:Europe/Madrid
X-LIC-LOCATION:Europe/Madrid
BEGIN:STANDARD
DTSTART:20241027T020000
TZOFFSETFROM:+0200
TZOFFSETTO:+0100
TZNAME:CET
END:STANDARD
END:VTIMEZONE
END:VCALENDAR