BEGIN:VCALENDAR
VERSION:2.0
PRODID:-//wp-events-plugin.com//7.2.3//EN
TZID:Europe/Madrid
X-WR-TIMEZONE:Europe/Madrid
BEGIN:VEVENT
UID:2289@elshostaletsdepierola.cat
DTSTART;TZID=Europe/Madrid:20231118T190000
DTEND;TZID=Europe/Madrid:20231118T190000
DTSTAMP:20231118T153730Z
URL:https://elshostaletsdepierola.cat/events/xerrada-divulgativa/
SUMMARY:Xerrada divulgativa
DESCRIPTION:Xerrada divulgativa "Què té a veure la costa de Menorca amb l
 es matemàtiques"\, a càrrec de Salvador Casals Anglès.\n\nTindrà lloc 
 el dissabte 18 de novembre a les 7 de la tarda\, a la sala del Casal Catal
 à dels Hostalets de Pierola.\n\nEs recomana portar dispositiu mòbil\, bo
 lígraf i llapis.
ATTACH;FMTTYPE=image/jpeg:https://elshostaletsdepierola.cat/wp-content/upl
 oads/2023/11/xerrada.jpg
CATEGORIES:Cultura,Esdeveniments,newsletter
LOCATION:Casal Català\, Isidre Vallès\, 30\, Els Hostalets de Pierola\, C
 atalunya\, 808781\, Espanya
GEO:41.5334999;1.7705200000000332
X-APPLE-STRUCTURED-LOCATION;VALUE=URI;X-ADDRESS=Isidre Vallès\, 30\, Els H
 ostalets de Pierola\, Catalunya\, 808781\, Espanya;X-APPLE-RADIUS=100;X-TI
 TLE=Casal Català:geo:41.5334999,1.7705200000000332
END:VEVENT
BEGIN:VTIMEZONE
TZID:Europe/Madrid
X-LIC-LOCATION:Europe/Madrid
BEGIN:STANDARD
DTSTART:20231029T020000
TZOFFSETFROM:+0200
TZOFFSETTO:+0100
TZNAME:CET
END:STANDARD
END:VTIMEZONE
END:VCALENDAR