BEGIN:VCALENDAR
VERSION:2.0
PRODID:-//wp-events-plugin.com//7.2.3//EN
TZID:Europe/Madrid
X-WR-TIMEZONE:Europe/Madrid
BEGIN:VEVENT
UID:1493@elshostaletsdepierola.cat
DTSTART:20220131T170000Z
DTEND:20220131T181500Z
DTSTAMP:20220127T130052Z
URL:https://elshostaletsdepierola.cat/events/xerrada-dr-modest-roca/
SUMMARY:Xerrada Dr. Modest Roca
DESCRIPTION:
ATTACH;FMTTYPE=image/jpeg:https://elshostaletsdepierola.cat/wp-content/upl
 oads/2022/01/xerradamodestroca.png
CATEGORIES:Esdeveniments,Gent Gran,newsletter,Salut
LOCATION:Auditori Cal Figueres\, Poliesportiu Municipal\, Hostalets de Pier
 ola\, Espanya
GEO:41.534829;1.768541
X-APPLE-STRUCTURED-LOCATION;VALUE=URI;X-ADDRESS=Poliesportiu Municipal\, Ho
 stalets de Pierola\, Espanya;X-APPLE-RADIUS=100;X-TITLE=Auditori Cal Figue
 res:geo:41.534829,1.768541
END:VEVENT
END:VCALENDAR