BEGIN:VCALENDAR
VERSION:2.0
PRODID:-//wp-events-plugin.com//7.2.3//EN
TZID:Europe/Madrid
X-WR-TIMEZONE:Europe/Madrid
BEGIN:VEVENT
UID:1778@elshostaletsdepierola.cat
DTSTART;TZID=Europe/Madrid:20220930T190000
DTEND;TZID=Europe/Madrid:20220930T200000
DTSTAMP:20220929T073537Z
URL:https://elshostaletsdepierola.cat/events/xerrada-pap-can-rovira-de-les
 tela/
SUMMARY:Xerrada PaP (Can Rovira de l'Estela)
DESCRIPTION:
ATTACH;FMTTYPE=image/jpeg:https://elshostaletsdepierola.cat/wp-content/upl
 oads/2022/09/img_0474.jpg
CATEGORIES:Esdeveniments,Informació municipal,Medi Ambient,newsletter
LOCATION:Can Rovira de l'Estela\, Àrea tancada\, Els Hostalets de Pierola\
 , Espanya
X-APPLE-STRUCTURED-LOCATION;VALUE=URI;X-ADDRESS=Àrea tancada\, Els Hostale
 ts de Pierola\, Espanya;X-APPLE-RADIUS=100;X-TITLE=Can Rovira de l'Estela:
 geo:0,0
END:VEVENT
BEGIN:VTIMEZONE
TZID:Europe/Madrid
X-LIC-LOCATION:Europe/Madrid
BEGIN:DAYLIGHT
DTSTART:20220327T030000
TZOFFSETFROM:+0100
TZOFFSETTO:+0200
TZNAME:CEST
END:DAYLIGHT
END:VTIMEZONE
END:VCALENDAR