BEGIN:VCALENDAR
VERSION:2.0
PRODID:-//wp-events-plugin.com//7.2.3//EN
TZID:Europe/Madrid
X-WR-TIMEZONE:Europe/Madrid
BEGIN:VEVENT
UID:2367@elshostaletsdepierola.cat
DTSTART;TZID=Europe/Madrid:20240129T180000
DTEND;TZID=Europe/Madrid:20240129T190000
DTSTAMP:20240123T101326Z
URL:https://elshostaletsdepierola.cat/events/xerrada-quimica-bon-humor/
SUMMARY:Cafè-tertúlia: Química bon humor
DESCRIPTION:Dilluns 29 de gener 18.00\nCasal de la Gent Gran\nObert a totho
 m. Entrada lliure.\n\nXerrada amb refrigeri al Casal de la Gent Gran a cà
 rrec de l'Amparo Treig\, la psicòloga i regidora de Salut i d'acció soci
 al de l'Ajuntament dels Hostalets de Pierola.
ATTACH;FMTTYPE=image/jpeg:https://elshostaletsdepierola.cat/wp-content/upl
 oads/2024/01/29bonhumor.png
CATEGORIES:Esdeveniments,Gent Gran,Salut
LOCATION:Casal de la Gent Gran\, Plaça de Cal Figueres\, 1\, Els Hostalets
  de Pierola\, Catalunya\, 808781\, Espanya
GEO:41.5348287;1.7685406000000512
X-APPLE-STRUCTURED-LOCATION;VALUE=URI;X-ADDRESS=Plaça de Cal Figueres\, 1\
 , Els Hostalets de Pierola\, Catalunya\, 808781\, Espanya;X-APPLE-RADIUS=1
 00;X-TITLE=Casal de la Gent Gran:geo:41.5348287,1.7685406000000512
END:VEVENT
BEGIN:VTIMEZONE
TZID:Europe/Madrid
X-LIC-LOCATION:Europe/Madrid
BEGIN:STANDARD
DTSTART:20231029T020000
TZOFFSETFROM:+0200
TZOFFSETTO:+0100
TZNAME:CET
END:STANDARD
END:VTIMEZONE
END:VCALENDAR